BEGIN:VCALENDAR
VERSION:2.0
PRODID:-//Khalifa University - ECPv4.9.13//NONSGML v1.0//EN
CALSCALE:GREGORIAN
METHOD:PUBLISH
X-WR-CALNAME:Khalifa University
X-ORIGINAL-URL:https://www.ku.ac.ae
X-WR-CALDESC:Events for Khalifa University
BEGIN:VTIMEZONE
TZID:Asia/Dubai
BEGIN:STANDARD
TZOFFSETFROM:+0400
TZOFFSETTO:+0400
TZNAME:+04
DTSTART:20230101T000000
END:STANDARD
END:VTIMEZONE
BEGIN:VEVENT
DTSTART;TZID=Asia/Dubai:20230914T080000
DTEND;TZID=Asia/Dubai:20230914T170000
DTSTAMP:20260422T211320
CREATED:20230130T130237Z
LAST-MODIFIED:20230130T130237Z
UID:77088-1694678400-1694710800@www.ku.ac.ae
SUMMARY:World Blood Dodor Day- Flu vaccine/SAN
DESCRIPTION:
URL:https://www.ku.ac.ae/event/world-blood-dodor-day-flu-vaccine-san
END:VEVENT
END:VCALENDAR