BEGIN:VCALENDAR
VERSION:2.0
PRODID:-//Khalifa University - ECPv4.9.13//NONSGML v1.0//EN
CALSCALE:GREGORIAN
METHOD:PUBLISH
X-WR-CALNAME:Khalifa University
X-ORIGINAL-URL:https://www.ku.ac.ae
X-WR-CALDESC:Events for Khalifa University
BEGIN:VTIMEZONE
TZID:Asia/Dubai
BEGIN:STANDARD
TZOFFSETFROM:+0400
TZOFFSETTO:+0400
TZNAME:+04
DTSTART:20230101T000000
END:STANDARD
END:VTIMEZONE
BEGIN:VEVENT
DTSTART;TZID=Asia/Dubai:20230913T080000
DTEND;TZID=Asia/Dubai:20230913T170000
DTSTAMP:20260423T002314
CREATED:20230130T130216Z
LAST-MODIFIED:20230130T130216Z
UID:77085-1694592000-1694624400@www.ku.ac.ae
SUMMARY:World Blood Dodor Day -Flu vaccine/Main
DESCRIPTION:
URL:https://www.ku.ac.ae/event/world-blood-dodor-day-flu-vaccine-main
END:VEVENT
END:VCALENDAR