BEGIN:VCALENDAR
VERSION:2.0
PRODID:-//Khalifa University - ECPv4.9.13//NONSGML v1.0//EN
CALSCALE:GREGORIAN
METHOD:PUBLISH
X-WR-CALNAME:Khalifa University
X-ORIGINAL-URL:https://www.ku.ac.ae
X-WR-CALDESC:Events for Khalifa University
BEGIN:VTIMEZONE
TZID:Asia/Dubai
BEGIN:STANDARD
TZOFFSETFROM:+0400
TZOFFSETTO:+0400
TZNAME:+04
DTSTART:20230101T000000
END:STANDARD
END:VTIMEZONE
BEGIN:VEVENT
DTSTART;TZID=Asia/Dubai:20230822T080000
DTEND;TZID=Asia/Dubai:20230823T170000
DTSTAMP:20260425T114325
CREATED:20230821T051123Z
LAST-MODIFIED:20230821T051844Z
UID:87922-1692691200-1692810000@www.ku.ac.ae
SUMMARY:Undergraduate Student Orientation Program
DESCRIPTION:Program link \n  \n
URL:https://www.ku.ac.ae/event/undergraduate-student-orientation-program
END:VEVENT
END:VCALENDAR