BEGIN:VCALENDAR
VERSION:2.0
PRODID:-//Khalifa University - ECPv4.9.13//NONSGML v1.0//EN
CALSCALE:GREGORIAN
METHOD:PUBLISH
X-WR-CALNAME:Khalifa University
X-ORIGINAL-URL:https://www.ku.ac.ae
X-WR-CALDESC:Events for Khalifa University
BEGIN:VTIMEZONE
TZID:Asia/Dubai
BEGIN:STANDARD
TZOFFSETFROM:+0400
TZOFFSETTO:+0400
TZNAME:+04
DTSTART:20230101T000000
END:STANDARD
END:VTIMEZONE
BEGIN:VEVENT
DTSTART;TZID=Asia/Dubai:20230501T080000
DTEND;TZID=Asia/Dubai:20230501T170000
DTSTAMP:20260424T120008
CREATED:20230130T125444Z
LAST-MODIFIED:20230130T125444Z
UID:77062-1682928000-1682960400@www.ku.ac.ae
SUMMARY:Teaching & Learning Conference
DESCRIPTION:
URL:https://www.ku.ac.ae/event/teaching-learning-conference
END:VEVENT
END:VCALENDAR