BEGIN:VCALENDAR
VERSION:2.0
PRODID:-//Khalifa University - ECPv4.9.13//NONSGML v1.0//EN
CALSCALE:GREGORIAN
METHOD:PUBLISH
X-WR-CALNAME:Khalifa University
X-ORIGINAL-URL:https://www.ku.ac.ae
X-WR-CALDESC:Events for Khalifa University
BEGIN:VTIMEZONE
TZID:Asia/Dubai
BEGIN:STANDARD
TZOFFSETFROM:+0400
TZOFFSETTO:+0400
TZNAME:+04
DTSTART:20230101T000000
END:STANDARD
END:VTIMEZONE
BEGIN:VEVENT
DTSTART;TZID=Asia/Dubai:20230317T080000
DTEND;TZID=Asia/Dubai:20230319T170000
DTSTAMP:20260419T192942
CREATED:20230130T124936Z
LAST-MODIFIED:20230130T124955Z
UID:77047-1679040000-1679245200@www.ku.ac.ae
SUMMARY:QS Higher Ed Summit: Europe 2023
DESCRIPTION:
URL:https://www.ku.ac.ae/event/qs-higher-ed-summit-europe-2023
END:VEVENT
END:VCALENDAR