BEGIN:VCALENDAR
VERSION:2.0
PRODID:-//Khalifa University - ECPv4.9.13//NONSGML v1.0//EN
CALSCALE:GREGORIAN
METHOD:PUBLISH
X-WR-CALNAME:Khalifa University
X-ORIGINAL-URL:https://www.ku.ac.ae
X-WR-CALDESC:Events for Khalifa University
BEGIN:VTIMEZONE
TZID:Asia/Dubai
BEGIN:STANDARD
TZOFFSETFROM:+0400
TZOFFSETTO:+0400
TZNAME:+04
DTSTART:20210101T000000
END:STANDARD
END:VTIMEZONE
BEGIN:VEVENT
DTSTART;TZID=Asia/Dubai:20210308T160000
DTEND;TZID=Asia/Dubai:20210308T170000
DTSTAMP:20260424T200047
CREATED:20210307T044625Z
LAST-MODIFIED:20210307T044625Z
UID:50642-1615219200-1615222800@www.ku.ac.ae
SUMMARY:Pd and Carbon Molecular Sieve Membranes for Hydrogen Separation and Production
DESCRIPTION:The use of hydrogen is expected to grow rapidly in the near future by replacing oil and gas. Hydrogen can store and deliver usable energy\, but it does not typically exist by itself in nature and must be produced from compounds that contain it and then be separated from a mixture with other gases. Among the methods for hydrogen separation\, membrane technology provides important advantages in terms of more flexible operations for different conditions\, higher production rates and the possibility to be combined into multi-purpose devices\, like membrane reactors. In this presentation\, the development of supported palladium alloy and carbon molecular sieve membranes for the separation of hydrogen and their incorporation in membrane reactor to produce hydrogen from steam reforming of methane and fuels (MeOH\, DME) from CO2 and H2 will be presented. \n
URL:https://www.ku.ac.ae/event/pd-and-carbon-molecular-sieve-membranes-for-hydrogen-separation-and-production
LOCATION:Virtual
END:VEVENT
END:VCALENDAR