BEGIN:VCALENDAR
VERSION:2.0
PRODID:-//Khalifa University - ECPv4.9.13//NONSGML v1.0//EN
CALSCALE:GREGORIAN
METHOD:PUBLISH
X-WR-CALNAME:Khalifa University
X-ORIGINAL-URL:https://www.ku.ac.ae
X-WR-CALDESC:Events for Khalifa University
BEGIN:VTIMEZONE
TZID:Asia/Dubai
BEGIN:STANDARD
TZOFFSETFROM:+0400
TZOFFSETTO:+0400
TZNAME:+04
DTSTART:20210101T000000
END:STANDARD
END:VTIMEZONE
BEGIN:VEVENT
DTSTART;TZID=Asia/Dubai:20210429T130000
DTEND;TZID=Asia/Dubai:20210429T140000
DTSTAMP:20260425T133244
CREATED:20210425T081003Z
LAST-MODIFIED:20210426T040053Z
UID:52762-1619701200-1619704800@www.ku.ac.ae
SUMMARY:On Genetics and Literature: Making “Biofictions”
DESCRIPTION:This talk will discuss artistic and scientific connections between molecular and literary language and meaning. Biofictions argues that understanding genetics and literature as a part of the shared creative medium of language with parallel syntactic and semiotic features\, can broaden our understanding of both fields and their impacts on issues such as genetic determinism\, human rights\, and posthuman subject formations in the Age of Biology (1953-present). The concept of ‘biofictions’ applies to literature that directly engages with the entanglement of the life sciences and information science\, not only on a thematic level\, but also in its formal choices. But ‘biofictions’ also refers to alterations done to the strings of biomolecules\, the ‘editing\,’ ‘cutting\,’ and ‘pasting’ of the genes. The imagination of biofictions produces forms that are biological\, semiotic\, and textual. These forms\, in turn\, reflect our ‘posthuman’ future. Important question to consider in this context are: who is controlling the writing of DNA\, the posthuman body? What is the role of imagination in this process? And\, what will be the ultimate form of the new language?  \n
URL:https://www.ku.ac.ae/event/on-genetics-and-literature-making-biofictions
LOCATION:Virtual
END:VEVENT
END:VCALENDAR