BEGIN:VCALENDAR
VERSION:2.0
PRODID:-//Khalifa University - ECPv4.9.13//NONSGML v1.0//EN
CALSCALE:GREGORIAN
METHOD:PUBLISH
X-WR-CALNAME:Khalifa University
X-ORIGINAL-URL:https://www.ku.ac.ae
X-WR-CALDESC:Events for Khalifa University
BEGIN:VTIMEZONE
TZID:Asia/Dubai
BEGIN:STANDARD
TZOFFSETFROM:+0400
TZOFFSETTO:+0400
TZNAME:+04
DTSTART:20230101T000000
END:STANDARD
END:VTIMEZONE
BEGIN:VEVENT
DTSTART;TZID=Asia/Dubai:20230406T150000
DTEND;TZID=Asia/Dubai:20230406T160000
DTSTAMP:20260420T062843
CREATED:20230404T043923Z
LAST-MODIFIED:20230404T043923Z
UID:77753-1680793200-1680796800@www.ku.ac.ae
SUMMARY:Math Seminar: Exponential systems in L2﴾a\, b﴿\, Moment problems\, Singularities of Taylor‐Dirichlet Series by Dr. Elias Zikkos
DESCRIPTION:
URL:https://www.ku.ac.ae/event/math-seminar-exponential-systems-in-l2a-b-moment-problems-singularities-of-taylordirichlet-series-by-dr-elias-zikkos
LOCATION:ADCO Auditorium\, Zarkuh Building\, SAN Campus\, Abu Dhabi\, United Arab Emirates
END:VEVENT
END:VCALENDAR