BEGIN:VCALENDAR
VERSION:2.0
PRODID:-//Khalifa University - ECPv4.9.13//NONSGML v1.0//EN
CALSCALE:GREGORIAN
METHOD:PUBLISH
X-WR-CALNAME:Khalifa University
X-ORIGINAL-URL:https://www.ku.ac.ae
X-WR-CALDESC:Events for Khalifa University
BEGIN:VTIMEZONE
TZID:Asia/Dubai
BEGIN:STANDARD
TZOFFSETFROM:+0400
TZOFFSETTO:+0400
TZNAME:+04
DTSTART:20210101T000000
END:STANDARD
END:VTIMEZONE
BEGIN:VEVENT
DTSTART;TZID=Asia/Dubai:20210307T080000
DTEND;TZID=Asia/Dubai:20210307T170000
DTSTAMP:20260424T195752
CREATED:20210228T094734Z
LAST-MODIFIED:20210228T094734Z
UID:50077-1615104000-1615136400@www.ku.ac.ae
SUMMARY:Major's Day 2021
DESCRIPTION:Major’s Day is an annual event hosted at Khalifa University as an initiative aimed at providing a platform where students can gain useful information about KU’s different majors to help them choose the academic program that is best aligned with their interests and future goals. \nTo join\, visit: http://majorsday.ae/  \n
URL:https://www.ku.ac.ae/event/majors-day-2021
END:VEVENT
END:VCALENDAR