BEGIN:VCALENDAR
VERSION:2.0
PRODID:-//Khalifa University - ECPv4.9.13//NONSGML v1.0//EN
CALSCALE:GREGORIAN
METHOD:PUBLISH
X-WR-CALNAME:Khalifa University
X-ORIGINAL-URL:https://www.ku.ac.ae
X-WR-CALDESC:Events for Khalifa University
BEGIN:VTIMEZONE
TZID:Asia/Dubai
BEGIN:STANDARD
TZOFFSETFROM:+0400
TZOFFSETTO:+0400
TZNAME:+04
DTSTART:20210101T000000
END:STANDARD
END:VTIMEZONE
BEGIN:VEVENT
DTSTART;TZID=Asia/Dubai:20210318T150000
DTEND;TZID=Asia/Dubai:20210318T160000
DTSTAMP:20260425T024859
CREATED:20210315T055051Z
LAST-MODIFIED:20210316T053801Z
UID:50951-1616079600-1616083200@www.ku.ac.ae
SUMMARY:KU-KAU Twinning Webinar Series: Membrane Proteins in Diabetic Cardiomyopathy and Heart Failure
DESCRIPTION:Cardiomyocyte membranes (Sarcolemma and sarcoplasmic reticulum) are essential for maintaining proper excitation-contraction (E-C) coupling but are profoundly altered in diabetic cardiomyopathy\, thus leading to impaired calcium signaling which detrimentally steers the heart into hypertrophic cardiomyopathy and failure. Mounting evidence implicates striatin (STRN) in cardiac function owing to its interaction with regulators of the L‐type calcium channel (LCC)\, i.e. caveolin‐3 (Cav-3)\, protein phosphatase 2A\, calmodulin (CaM)\, and the sarcolemmal membrane associated protein (SLMAP). The CaM kinase pathway is upregulated during diabetes however\, the role of STRN to this effect remains unclear. We reported that STRN is expressed in cardiomyocyte and is part of the E-C coupling module. During pathological remodeling\, STRN is highly expressed in the left ventricle (LV) of Spontaneously Hypertensive Rats (SHR) at the age of 4 weeks\, but declines in the SHR LV at 18 weeks\, when compared to age-matched Wistar-Kyoto (WKY) rats. Silencing the STRN gene in cultured cardiomyocytes reduced their spontaneous contraction rate (~40%) and desensitized them to isoproterenol\, thus phenotypically mimicking end-stage-failure. Of interest\, we found that cardiac STRN interacts with SLMAP\, a novel regulator of GLUT4 receptor and glucose uptake. Protein interaction assay further revealed that cardiac STRN\, CaM and Cav-3 assembly is calcium sensitive. In fact\, the expression levels of STRN were inversely proportional to the magnitude of interaction of Cav-3 with the CaM/STRN complex\, thus indicating a role for STRN in the CaM Kinase pathway and diabetic cardiomyopathy. Collectively\, our data delineate a novel role for STRN in regulating cardiomyocyte contraction\, the diabetic signaling module\, and the remodeling of cardiac tissue. \n  \n
URL:https://www.ku.ac.ae/event/ku-kau-twinning-webinar-series-membrane-proteins-in-diabetic-cardiomyopathy-and-heart-failure
LOCATION:Virtual
END:VEVENT
END:VCALENDAR