BEGIN:VCALENDAR
VERSION:2.0
PRODID:-//Khalifa University - ECPv4.9.13//NONSGML v1.0//EN
CALSCALE:GREGORIAN
METHOD:PUBLISH
X-WR-CALNAME:Khalifa University
X-ORIGINAL-URL:https://www.ku.ac.ae
X-WR-CALDESC:Events for Khalifa University
BEGIN:VTIMEZONE
TZID:Asia/Dubai
BEGIN:STANDARD
TZOFFSETFROM:+0400
TZOFFSETTO:+0400
TZNAME:+04
DTSTART:20210101T000000
END:STANDARD
END:VTIMEZONE
BEGIN:VEVENT
DTSTART;TZID=Asia/Dubai:20210308T140000
DTEND;TZID=Asia/Dubai:20210308T150000
DTSTAMP:20260424T182748
CREATED:20210303T083844Z
LAST-MODIFIED:20210303T084008Z
UID:50590-1615212000-1615215600@www.ku.ac.ae
SUMMARY:Inspirational Talk by Industry Leader: Mr. Mohamed Alabbar
DESCRIPTION:Mr. Mohamed Alabbar\, Founder and Managing Director of Emaar Properties\, will give a presentation on his role in establishing the online marketplace Noon and his insights on the future of E-commerce. \n  \nAbout Mr. Mohamed Alabbar \n  \nMr. Mohamed Alabbar is a global entrepreneur with active interests in real estate\, retail\, hospitality\, e-commerce\, technology\, logistics\, F&B and venture capital. \n  \nHe has driven the growth of several regional players into world-renown sector champions including Americana Group and e-commerce platforms noon.com and Namshi. More recently\, he expanded holdings into China with leading mobile transportation platform Didi Chuxing and popular coffee chain\, Luckin Coffee. \n
URL:https://www.ku.ac.ae/event/inspirational-talk-by-industry-leader-mr-mohamed-alabbar
LOCATION:Virtual
ATTACH;FMTTYPE=image/jpeg:https://www.ku.ac.ae/wp-content/uploads/2021/03/23_Mohamed-Alabbar.jpg
END:VEVENT
END:VCALENDAR