BEGIN:VCALENDAR
VERSION:2.0
PRODID:-//Khalifa University - ECPv4.9.13//NONSGML v1.0//EN
CALSCALE:GREGORIAN
METHOD:PUBLISH
X-WR-CALNAME:Khalifa University
X-ORIGINAL-URL:https://www.ku.ac.ae
X-WR-CALDESC:Events for Khalifa University
BEGIN:VTIMEZONE
TZID:Asia/Dubai
BEGIN:STANDARD
TZOFFSETFROM:+0400
TZOFFSETTO:+0400
TZNAME:+04
DTSTART:20210101T000000
END:STANDARD
END:VTIMEZONE
BEGIN:VEVENT
DTSTART;TZID=Asia/Dubai:20210224T120000
DTEND;TZID=Asia/Dubai:20210225T150000
DTSTAMP:20260424T212808
CREATED:20210221T073741Z
LAST-MODIFIED:20210223T093318Z
UID:49410-1614168000-1614265200@www.ku.ac.ae
SUMMARY:Innovation Week: KU Community Webinars
DESCRIPTION:In honor of UAE Innovation Week\, Khalifa University is hosting four webinars to highlight the important role entrepreneurship plays in nurturing innovation in the UAE and beyond.  \nKhalifa University is committed to promoting a culture of innovation and entrepreneurship in the UAE\, and continually strengthens\, broadens and accelerates its research activities\, academic offerings and initiatives in response to the UAE’s national innovation goals.   \nTwo researchers will present from KU’s Emirates ICT Innovation Center (EBTIC)\, a research center aimed at advancing intelligent systems technologies for Next Generation Networks (NGNs) and NGN-enabled ICT applications and services that enable the digital economy in the UAE. \nAnd two other researchers will present from the Khalifa Innovation Center (KIC)\, an incubation center that supports the commercialization of local high-tech technologies\, nurturing them into successful startups.   \n  \nSchedule\n  \n\nDate & Time: 24 Feb\, 12pm\n\nTitle: A Pathway to DeepTech Startups\nPresenter: Tariq Syed\, KIC Innovation Specialist\nView Here\n\n\n\n  \n\nDate & Time: 24 Feb\, 2pm\n\nTitle: The Journey of an Entrepreneur in the UAE\nPresenter: Salwa Alzahmi\, CEO and Founder of SPLCo Ltd\, and Senior Researcher\, EBTIC\nView Here\n\n\n\n  \n\nDate & Time: 25 Feb\, 12pm\n\nTitle: Creating a Culture of Innovation \nPresenter: Nathan Eden\, Head of Innovation\, EBTIC\nView Here\n\n\n\n  \n\nDate & Time: 25 Feb\,  2pm\n\nTitle: Fast-forward with KIC\nPresenter: Jean Luc Scherer\, KIC Business Development Manager\nView Here\n\n\n\n
URL:https://www.ku.ac.ae/event/innovation-week-ku-community-webinars
LOCATION:Virtual
END:VEVENT
END:VCALENDAR