BEGIN:VCALENDAR
VERSION:2.0
PRODID:-//Khalifa University - ECPv4.9.13//NONSGML v1.0//EN
CALSCALE:GREGORIAN
METHOD:PUBLISH
X-WR-CALNAME:Khalifa University
X-ORIGINAL-URL:https://www.ku.ac.ae
X-WR-CALDESC:Events for Khalifa University
BEGIN:VTIMEZONE
TZID:Asia/Dubai
BEGIN:STANDARD
TZOFFSETFROM:+0400
TZOFFSETTO:+0400
TZNAME:+04
DTSTART:20210101T000000
END:STANDARD
END:VTIMEZONE
BEGIN:VEVENT
DTSTART;TZID=Asia/Dubai:20210421T170000
DTEND;TZID=Asia/Dubai:20210421T180000
DTSTAMP:20260425T103647
CREATED:20210418T093739Z
LAST-MODIFIED:20210418T095100Z
UID:52535-1619024400-1619028000@www.ku.ac.ae
SUMMARY:IAEE Webinar: HYDROGEN IN A GLOBAL CONTEXT
DESCRIPTION:Session attendees will come away with insights into: \n\nJapan’s hydrogen strategy and both the opportunities and challenges for developing a hydrogen market from a hydrogen importer perspective.\nSaudi Aramco’s hydrogen plans and ambitions domestically and internationally from a hydrogen exporter perspective.\nOpportunities and challenges for developing hydrogen markets in Europe as well as the GCC.\nOpportunities for GCC-Europe and GCC-Asia cooperation in hydrogen.\n\nSeats are limited\, sign up to ensure a spot! \n\n\nRegister here: http://www.iaee.org/en/webinars/webinar_griffiths4.aspx\n
URL:https://www.ku.ac.ae/event/iaee-webinar-hydrogen-in-a-global-context
ATTACH;FMTTYPE=image/jpeg:https://www.ku.ac.ae/wp-content/uploads/2021/04/webinar_griffiths4_banner.jpg
END:VEVENT
END:VCALENDAR