BEGIN:VCALENDAR
VERSION:2.0
PRODID:-//Khalifa University - ECPv4.9.13//NONSGML v1.0//EN
CALSCALE:GREGORIAN
METHOD:PUBLISH
X-WR-CALNAME:Khalifa University
X-ORIGINAL-URL:https://www.ku.ac.ae
X-WR-CALDESC:Events for Khalifa University
BEGIN:VTIMEZONE
TZID:Asia/Dubai
BEGIN:STANDARD
TZOFFSETFROM:+0400
TZOFFSETTO:+0400
TZNAME:+04
DTSTART:20230101T000000
END:STANDARD
END:VTIMEZONE
BEGIN:VEVENT
DTSTART;TZID=Asia/Dubai:20230319T080000
DTEND;TZID=Asia/Dubai:20230320T170000
DTSTAMP:20260419T232142
CREATED:20230130T125050Z
LAST-MODIFIED:20230130T125050Z
UID:77051-1679212800-1679331600@www.ku.ac.ae
SUMMARY:GSRC 2023
DESCRIPTION:
URL:https://www.ku.ac.ae/event/gsrc-2023
END:VEVENT
END:VCALENDAR