BEGIN:VCALENDAR
VERSION:2.0
PRODID:-//Khalifa University - ECPv4.9.13//NONSGML v1.0//EN
CALSCALE:GREGORIAN
METHOD:PUBLISH
X-WR-CALNAME:Khalifa University
X-ORIGINAL-URL:https://www.ku.ac.ae
X-WR-CALDESC:Events for Khalifa University
BEGIN:VTIMEZONE
TZID:Asia/Dubai
BEGIN:STANDARD
TZOFFSETFROM:+0400
TZOFFSETTO:+0400
TZNAME:+04
DTSTART:20230101T000000
END:STANDARD
END:VTIMEZONE
BEGIN:VEVENT
DTSTART;TZID=Asia/Dubai:20230222T080000
DTEND;TZID=Asia/Dubai:20230222T170000
DTSTAMP:20260419T122115
CREATED:20230130T124532Z
LAST-MODIFIED:20230130T124532Z
UID:77037-1677052800-1677085200@www.ku.ac.ae
SUMMARY:Global Day
DESCRIPTION:
URL:https://www.ku.ac.ae/event/global-day
END:VEVENT
END:VCALENDAR