BEGIN:VCALENDAR
VERSION:2.0
PRODID:-//Khalifa University - ECPv4.9.13//NONSGML v1.0//EN
CALSCALE:GREGORIAN
METHOD:PUBLISH
X-WR-CALNAME:Khalifa University
X-ORIGINAL-URL:https://www.ku.ac.ae
X-WR-CALDESC:Events for Khalifa University
BEGIN:VTIMEZONE
TZID:Asia/Dubai
BEGIN:STANDARD
TZOFFSETFROM:+0400
TZOFFSETTO:+0400
TZNAME:+04
DTSTART:20230101T000000
END:STANDARD
END:VTIMEZONE
BEGIN:VEVENT
DTSTART;TZID=Asia/Dubai:20230403T160000
DTEND;TZID=Asia/Dubai:20230403T170000
DTSTAMP:20260420T043927
CREATED:20230329T095153Z
LAST-MODIFIED:20230329T095422Z
UID:77734-1680537600-1680541200@www.ku.ac.ae
SUMMARY:From the Sun to the Interstellar Medium: The Making of Our Heliosphere
DESCRIPTION:
URL:https://www.ku.ac.ae/event/from-the-sun-to-the-interstellar-medium-the-making-of-our-heliosphere
LOCATION:Virtual
END:VEVENT
END:VCALENDAR