BEGIN:VCALENDAR
VERSION:2.0
PRODID:-//Khalifa University - ECPv4.9.13//NONSGML v1.0//EN
CALSCALE:GREGORIAN
METHOD:PUBLISH
X-WR-CALNAME:Khalifa University
X-ORIGINAL-URL:https://www.ku.ac.ae
X-WR-CALDESC:Events for Khalifa University
BEGIN:VTIMEZONE
TZID:Asia/Dubai
BEGIN:STANDARD
TZOFFSETFROM:+0400
TZOFFSETTO:+0400
TZNAME:+04
DTSTART:20210101T000000
END:STANDARD
END:VTIMEZONE
BEGIN:VEVENT
DTSTART;TZID=Asia/Dubai:20210113T160000
DTEND;TZID=Asia/Dubai:20210113T170000
DTSTAMP:20260425T171416
CREATED:20210107T094515Z
LAST-MODIFIED:20210107T094515Z
UID:47352-1610553600-1610557200@www.ku.ac.ae
SUMMARY:From Engineer to Medical Doctor
DESCRIPTION:Join us for a seminar with Dr. Ajlan Al Zaki\, an Emirati Doctor who will recount the journey he took from chemical engineering to fellowship match at one of the leading cancer care centers in the world. \n
URL:https://www.ku.ac.ae/event/from-engineer-to-medical-doctor
LOCATION:Virtual
END:VEVENT
END:VCALENDAR