BEGIN:VCALENDAR
VERSION:2.0
PRODID:-//Khalifa University - ECPv4.9.13//NONSGML v1.0//EN
CALSCALE:GREGORIAN
METHOD:PUBLISH
X-WR-CALNAME:Khalifa University
X-ORIGINAL-URL:https://www.ku.ac.ae
X-WR-CALDESC:Events for Khalifa University
BEGIN:VTIMEZONE
TZID:Asia/Dubai
BEGIN:STANDARD
TZOFFSETFROM:+0400
TZOFFSETTO:+0400
TZNAME:+04
DTSTART:20240101T000000
END:STANDARD
END:VTIMEZONE
BEGIN:VEVENT
DTSTART;TZID=Asia/Dubai:20240219T090000
DTEND;TZID=Asia/Dubai:20240219T150000
DTSTAMP:20260422T104935
CREATED:20240215T130039Z
LAST-MODIFIED:20240215T130207Z
UID:92237-1708333200-1708354800@www.ku.ac.ae
SUMMARY:Emirati Graduate Gateway “Connecting Talent with Opportunities"
DESCRIPTION:
URL:https://www.ku.ac.ae/event/emirati-graduate-gateway-connecting-talent-with-opportunities
END:VEVENT
END:VCALENDAR