BEGIN:VCALENDAR
VERSION:2.0
PRODID:-//Khalifa University - ECPv4.9.13//NONSGML v1.0//EN
CALSCALE:GREGORIAN
METHOD:PUBLISH
X-WR-CALNAME:Khalifa University
X-ORIGINAL-URL:https://www.ku.ac.ae
X-WR-CALDESC:Events for Khalifa University
BEGIN:VTIMEZONE
TZID:Asia/Dubai
BEGIN:STANDARD
TZOFFSETFROM:+0400
TZOFFSETTO:+0400
TZNAME:+04
DTSTART:20210101T000000
END:STANDARD
END:VTIMEZONE
BEGIN:VEVENT
DTSTART;TZID=Asia/Dubai:20210211T120000
DTEND;TZID=Asia/Dubai:20210211T130000
DTSTAMP:20260425T021057
CREATED:20210208T085637Z
LAST-MODIFIED:20210208T090356Z
UID:48706-1613044800-1613048400@www.ku.ac.ae
SUMMARY:Electrostatic Solitary Waves in Non-Maxwellian Space Plasmas: On the Role of Suprathermal Particles
DESCRIPTION:Space plasmas are generally characterized by the presence of highly energetic particles\, which are accelerated via various mechanisms. These suprathermal particles populate the upper zone in the velocity space\, leading to a long-tailed (non-thermal) distribution and a power law dependence for high velocities\, that is effectively modeled by a kappa-type (non-Maxwell-Boltzmann) distribution. Electrostatic solitary waves (ESWs)\, i.e. localized density and electric field propagating at supersonic speeds are ubiquitous e.g. in the Earth’s magnetosphere and in the ionosphere; these are essentially stationary-profile pulse-shaped electrostatic potential disturbances associated with particle density enhancement (or depletion) regions observed in abundance by satellite and spacecraft missions. \nThe talk will review the basic principles of the modeling of ESWs in Space plasmas in the presence of suprathermal particles in the background. The effect of superthermality on the dispersion characteristics of linear waves will be discussed\, mainly focusing on the role of suprathermals on the phase speed. The main aspects of the nonlinear modeling of ESWs based on plasma-fluid theory will be revisited from first principles\, taking into account a kappa-distributed background. Focusing on nonlinear modes\, the role of the spectral index (kappa) on dynamical localized wave features (amplitude\, existence region and propagation characteristics) will be elucidated. Applications of this modeling in relation with space observations will be discussed\, in particular focusing on satellite observations and on data provided by the Cassini (Saturn) and the MAVEN (Mars) mission. \nThis talk is aimed at an audience with moderate prior knowledge of modeling in geophysics and in Space science. It consists of an overview of earlier research work carried out in collaboration with Michael McKerr (UAE & Belfast\, UK)\, Ibrahem Elkamash (Egypt)\, Manfred A. Hellberg (Durban\, South Africa)\, Frank Verheest (Gent\, Belgium)\, Nareshpal Singh Saini (GNDU\, India) and S. Maharaj (SANSA\, Hermanus\, S. Africa) among others. \n
URL:https://www.ku.ac.ae/event/electrostatic-solitary-waves-in-non-maxwellian-space-plasmas-on-the-role-of-suprathermal-particles
END:VEVENT
END:VCALENDAR