BEGIN:VCALENDAR
VERSION:2.0
PRODID:-//Khalifa University - ECPv4.9.13//NONSGML v1.0//EN
CALSCALE:GREGORIAN
METHOD:PUBLISH
X-WR-CALNAME:Khalifa University
X-ORIGINAL-URL:https://www.ku.ac.ae
X-WR-CALDESC:Events for Khalifa University
BEGIN:VTIMEZONE
TZID:Asia/Dubai
BEGIN:STANDARD
TZOFFSETFROM:+0400
TZOFFSETTO:+0400
TZNAME:+04
DTSTART:20220101T000000
END:STANDARD
END:VTIMEZONE
BEGIN:VEVENT
DTSTART;TZID=Asia/Dubai:20221012T113000
DTEND;TZID=Asia/Dubai:20221012T123000
DTSTAMP:20260422T092034
CREATED:20221004T131904Z
LAST-MODIFIED:20231225T095220Z
UID:76050-1665574200-1665577800@www.ku.ac.ae
SUMMARY:Dubai Future Foundation Introduction Session
DESCRIPTION:
URL:https://www.ku.ac.ae/event/dubai-future-foundation-introduction-session
CATEGORIES:Alumni Events,Career fair
END:VEVENT
END:VCALENDAR