BEGIN:VCALENDAR
VERSION:2.0
PRODID:-//Khalifa University - ECPv4.9.13//NONSGML v1.0//EN
CALSCALE:GREGORIAN
METHOD:PUBLISH
X-WR-CALNAME:Khalifa University
X-ORIGINAL-URL:https://www.ku.ac.ae
X-WR-CALDESC:Events for Khalifa University
BEGIN:VTIMEZONE
TZID:Asia/Dubai
BEGIN:STANDARD
TZOFFSETFROM:+0400
TZOFFSETTO:+0400
TZNAME:+04
DTSTART:20230101T000000
END:STANDARD
END:VTIMEZONE
BEGIN:VEVENT
DTSTART;TZID=Asia/Dubai:20230427T150000
DTEND;TZID=Asia/Dubai:20230427T160000
DTSTAMP:20260424T101136
CREATED:20230410T072708Z
LAST-MODIFIED:20230410T072708Z
UID:77849-1682607600-1682611200@www.ku.ac.ae
SUMMARY:Convexity preserving deformations of digital sets: Characterization of removable and insertable pixels By Dr. Lama Tarsissi
DESCRIPTION:
URL:https://www.ku.ac.ae/event/convexity-preserving-deformations-of-digital-sets-characterization-of-removable-and-insertable-pixels-by-dr-lama-tarsissi
END:VEVENT
END:VCALENDAR