BEGIN:VCALENDAR
VERSION:2.0
PRODID:-//Khalifa University - ECPv4.9.13//NONSGML v1.0//EN
CALSCALE:GREGORIAN
METHOD:PUBLISH
X-WR-CALNAME:Khalifa University
X-ORIGINAL-URL:https://www.ku.ac.ae
X-WR-CALDESC:Events for Khalifa University
BEGIN:VTIMEZONE
TZID:Asia/Dubai
BEGIN:STANDARD
TZOFFSETFROM:+0400
TZOFFSETTO:+0400
TZNAME:+04
DTSTART:20230101T000000
END:STANDARD
END:VTIMEZONE
BEGIN:VEVENT
DTSTART;TZID=Asia/Dubai:20231010T080000
DTEND;TZID=Asia/Dubai:20231010T170000
DTSTAMP:20260422T161958
CREATED:20230130T130424Z
LAST-MODIFIED:20230130T130424Z
UID:77094-1696924800-1696957200@www.ku.ac.ae
SUMMARY:Breast Cancer
DESCRIPTION:
URL:https://www.ku.ac.ae/event/breast-cancer
END:VEVENT
END:VCALENDAR