BEGIN:VCALENDAR
VERSION:2.0
PRODID:-//Khalifa University - ECPv4.9.13//NONSGML v1.0//EN
CALSCALE:GREGORIAN
METHOD:PUBLISH
X-WR-CALNAME:Khalifa University
X-ORIGINAL-URL:https://www.ku.ac.ae
X-WR-CALDESC:Events for Khalifa University
BEGIN:VTIMEZONE
TZID:Asia/Dubai
BEGIN:STANDARD
TZOFFSETFROM:+0400
TZOFFSETTO:+0400
TZNAME:+04
DTSTART:20210101T000000
END:STANDARD
END:VTIMEZONE
BEGIN:VEVENT
DTSTART;TZID=Asia/Dubai:20210616T130000
DTEND;TZID=Asia/Dubai:20210616T140000
DTSTAMP:20260425T234810
CREATED:20210602T053508Z
LAST-MODIFIED:20210609T082403Z
UID:53858-1623848400-1623852000@www.ku.ac.ae
SUMMARY:3D Printing in Building\, Construction\, and Manufacturing
DESCRIPTION:Professor Ming‐Jen TAN from Nanyang Technological University will give an overview of some of the developments and transformations that are going on in 3D printing\, in particular\, the building and construction\, and also the manufacturing industries. It will present some of the challenges and work done in the last 6 years at the Singapore Centre of 3D Printing for the building and construction industry\, and also introduces the HP Multi-Jet Fusion 3D Printers which aims to transform a US$12 trillion manufacturing industry. \n  \n
URL:https://www.ku.ac.ae/event/3d-printing-in-building-construction-and-manufacturing
END:VEVENT
END:VCALENDAR