BEGIN:VCALENDAR
VERSION:2.0
PRODID:-//Khalifa University - ECPv4.9.13//NONSGML v1.0//EN
CALSCALE:GREGORIAN
METHOD:PUBLISH
X-WR-CALNAME:Khalifa University
X-ORIGINAL-URL:https://www.ku.ac.ae
X-WR-CALDESC:Events for Khalifa University
BEGIN:VTIMEZONE
TZID:Asia/Dubai
BEGIN:STANDARD
TZOFFSETFROM:+0400
TZOFFSETTO:+0400
TZNAME:+04
DTSTART:20210101T000000
END:STANDARD
END:VTIMEZONE
BEGIN:VEVENT
DTSTART;TZID=Asia/Dubai:20210531T090000
DTEND;TZID=Asia/Dubai:20210531T173000
DTSTAMP:20260425T221342
CREATED:20210527T061048Z
LAST-MODIFIED:20210530T061017Z
UID:53606-1622451600-1622482200@www.ku.ac.ae
SUMMARY:2nd Center for Catalysis and Separation (CeCaS) Workshop on Hydrogen Utilization and Green Energy (HUGE)
DESCRIPTION:The event brings together like-minded scientists and engineers across the globe to discuss the local and global challenges\, current advances\, and sustainable solutions in the Hydrogen Economy. \nTopics will include Production\, Exploration\, and Storage of Hydrogen\, as well as Materials\, Processes\, Systems\, and Technologies for Hydrogen Energy. \nFor the full list of speakers and the agenda\, please click here. \n  \n
URL:https://www.ku.ac.ae/event/2nd-center-for-catalysis-and-separation-cecas-workshop-on-hydrogen-utilization-and-green-energy-huge
LOCATION:Virtual
END:VEVENT
END:VCALENDAR